BEGIN:VCALENDAR
VERSION:2.0
PRODID:-//ChamberMaster//Event Calendar 2.0//EN
METHOD:PUBLISH
X-PUBLISHED-TTL:P3D
REFRESH-INTERVAL:P3D
CALSCALE:GREGORIAN
BEGIN:VEVENT
DTSTART:20240418T233000Z
DTEND:20240419T013000Z
X-MICROSOFT-CDO-ALLDAYEVENT:FALSE
SUMMARY:SVPA Faculty Showcase
DESCRIPTION:SVPA Faculty Showcase at the Watson Theater\, April 18 7:30 p.m.\n\nOne Act will feature the faculty presenting their professional work in dance\, music\, theatre\, and visual art. The other Act will be filled with interdisciplinary collaborations across genres.\n\nThe concert is $20 for adults\, $10 for students and seniors\, and free with a Coker University I.D.
X-ALT-DESC;FMTTYPE=text/html:<p><strong>SVPA Faculty Showcase at the Watson Theater\, April 18 7:30 p.m.</strong><br />\nOne Act will feature the faculty presenting their professional work in dance\, music\, theatre\, and visual art. The other Act will be filled with interdisciplinary collaborations across genres.<br />\n<span style="font-size:14px"><span style="color:rgb(16\, 16\, 16)\; font-family:brandon-grotesque">The concert is $20 for adults\, $10 for students and seniors\, and free with a Coker University I.D.</span></span></p>\n
LOCATION:Watson Theater
UID:e.2045.2540
SEQUENCE:3
DTSTAMP:20260425T155608Z
URL:https://www.hartsvillechamber.org/events/details/svpa-faculty-showcase-2540
END:VEVENT

END:VCALENDAR
