BEGIN:VCALENDAR
VERSION:2.0
PRODID:-//ChamberMaster//Event Calendar 2.0//EN
METHOD:PUBLISH
X-PUBLISHED-TTL:P3D
REFRESH-INTERVAL:P3D
CALSCALE:GREGORIAN
BEGIN:VEVENT
DTSTART:20240404T213000Z
DTEND:20240404T230000Z
X-MICROSOFT-CDO-ALLDAYEVENT:FALSE
SUMMARY:"The Extraordinaire of Narzhio" by Wayne (Narzhio) Stucky
DESCRIPTION:Artist Statement:\n\nThe show will be warming with a glimpse of how the artist creates Abstract and Pop Art from the soul. Canvases filled with colors and images of beautiful muses demand the attention of every wondering and curious mind. It will be an exhibition of falling in love with the art and the artist as a person\, a beautiful soul that finds peace and comfort when in his own Weird\, but Dope world...The Extraordinaire of Narzhio.\n\nThis exhibit is FREE\, and the public is encouraged to attend.
X-ALT-DESC;FMTTYPE=text/html:<p><strong>Artist Statement:</strong><br />\n<strong><em>The show will be warming with a glimpse of how the artist creates Abstract and Pop Art from the soul. Canvases filled with colors and images of beautiful muses demand the attention of every wondering and curious mind. It will be an exhibition of falling in love with the art and the artist as a person\, a beautiful soul that finds peace and comfort when in his own Weird\, but Dope world...The Extraordinaire of Narzhio.</em></strong></p>\n\n<p>This exhibit is FREE\, and the public is encouraged to attend.</p>\n
LOCATION:Black Creek Arts 116 W. College Ave Hartsville\, SC 29550
UID:e.2045.2515
SEQUENCE:3
DTSTAMP:20260425T160120Z
URL:https://www.hartsvillechamber.org/events/details/the-extraordinaire-of-narzhio-by-wayne-narzhio-stucky-2515
END:VEVENT

END:VCALENDAR
