BEGIN:VCALENDAR
VERSION:2.0
PRODID:-//ChamberMaster//Event Calendar 2.0//EN
METHOD:PUBLISH
X-PUBLISHED-TTL:P3D
REFRESH-INTERVAL:P3D
CALSCALE:GREGORIAN
BEGIN:VEVENT
DTSTART:20250117T003000Z
DTEND:20250117T020000Z
X-MICROSOFT-CDO-ALLDAYEVENT:FALSE
SUMMARY:The Improvised Musical Theatre Production
DESCRIPTION:The Improvised Musical Theatre Production   January 16\, 7:30 p.m.\, Watson Theater\; $15 Students/Seniors\, $30 General Admission\n\nEach performance of The Improvised Broadway Musical or Shitzprobe! is the premiere of a never-before-seen musical\, and YOU help create it   each show is based on an audience member's suggestion of a title of a musical that doesn't yet exist. Past audiences have helped to create shows like "Can She Even Walk in Heels?"\, "Ladies Who Lie"\, and "Four Dates\, Four Frogs". If you've ever wanted to be in "the room where it happens"\, this is the show to see!\n\nThis performance and residency is funded in part by a grant from the National Endowment for the Arts.
X-ALT-DESC;FMTTYPE=text/html:<p><strong>The Improvised Musical Theatre Production<em>&nbsp\;&ndash\;</em>&nbsp\;January 16\, 7:30 p.m.\, Watson Theater\; $15 Students/Seniors\, $30 General Admission</strong></p>\n\n<p>Each performance of&nbsp\;The Improvised Broadway Musical or Shitzprobe!&nbsp\;is the premiere of a never-before-seen musical\, and YOU help create it &ndash\; each show is based on an audience member&rsquo\;s suggestion of a title of a musical that doesn&rsquo\;t yet exist. Past audiences have helped to create shows like&nbsp\;&ldquo\;Can She Even Walk in Heels?&rdquo\;\,&nbsp\;&ldquo\;Ladies Who Lie&rdquo\;\, and&nbsp\;&ldquo\;Four Dates\, Four Frogs&rdquo\;. If you&rsquo\;ve ever wanted to be in &ldquo\;the room where it happens&rdquo\;\, this is the show to see!</p>\n\n<p><em>This performance and residency is funded in part by a grant from the National Endowment for the Arts.</em></p>\n
LOCATION:Watson Theater
UID:e.2045.3036
SEQUENCE:3
DTSTAMP:20260425T000406Z
URL:https://www.hartsvillechamber.org/events/details/the-improvised-musical-theatre-production-3036
END:VEVENT

END:VCALENDAR
