BEGIN:VCALENDAR
VERSION:2.0
PRODID:-//ChamberMaster//Event Calendar 2.0//EN
METHOD:PUBLISH
X-PUBLISHED-TTL:P3D
REFRESH-INTERVAL:P3D
CALSCALE:GREGORIAN
BEGIN:VEVENT
DTSTART:20250119T210000Z
DTEND:20250119T230000Z
X-MICROSOFT-CDO-ALLDAYEVENT:FALSE
SUMMARY:The Improvised Musical Theatre Production - Student Improvised Musical Performance
DESCRIPTION:The Improvised Musical Theatre Production Shitzprobe - Student Improvised Musical Performance\n\nJanuary 19\, 4:00 p.m.\, Watson Theater\; $15 Students/Seniors\, $30 General Admission\n\nEach performance of The Improvised Broadway Musical or Shitzprobe! is the premiere of a never-before-seen musical\, and YOU help create it ? each show is based on an audience member?s suggestion of a title of a musical that doesn?t yet exist. Past audiences have helped to create shows like ?Can She Even Walk in Heels??\, ?Ladies Who Lie?\, and ?Four Dates\, Four Frogs?. If you?ve ever wanted to be in ?the room where it happens?\, this is the show to see! Free With Coker ID.\n\nThis performance and residency is funded in part by a grant from the National Endowment for the Arts.
X-ALT-DESC;FMTTYPE=text/html:<p><strong>The Improvised Musical Theatre Production&nbsp\;<em>Shitzprobe - Student Improvised Musical Performance</em><br>\nJanuary 19\, 4:00 p.m.\, Watson Theater\; $15 Students/Seniors\, $30 General Admission</strong></p>\n\n<p>Each performance of&nbsp\;The Improvised Broadway Musical or Shitzprobe!&nbsp\;is the premiere of a never-before-seen musical\, and YOU help create it ? each show is based on an audience member?s suggestion of a title of a musical that doesn?t yet exist. Past audiences have helped to create shows like&nbsp\;?Can She Even Walk in Heels??\,&nbsp\;?Ladies Who Lie?\, and&nbsp\;?Four Dates\, Four Frogs?. If you?ve ever wanted to be in ?the room where it happens?\, this is the show to see! <em>Free With Coker ID.</em></p>\n\n<p><em>This performance and residency is funded in part by a grant from the National Endowment for the Arts.</em></p>\n
LOCATION:
UID:e.2045.3196
SEQUENCE:3
DTSTAMP:20260425T000458Z
URL:https://www.hartsvillechamber.org/events/details/the-improvised-musical-theatre-production-student-improvised-musical-performance-3196
END:VEVENT

END:VCALENDAR
