BEGIN:VCALENDAR
VERSION:2.0
PRODID:-//ChamberMaster//Event Calendar 2.0//EN
METHOD:PUBLISH
X-PUBLISHED-TTL:P3D
REFRESH-INTERVAL:P3D
CALSCALE:GREGORIAN
BEGIN:VEVENT
DTSTART:20250403T233000Z
DTEND:20250406T010000Z
X-MICROSOFT-CDO-ALLDAYEVENT:FALSE
SUMMARY:The World Goes Round (Musical & Theater Production)
DESCRIPTION:The World Goes Round (Musical & Theater Production)   April 3-5\, 7:30 p.m.\, Watson Theatre\; $15 students/seniors\, $30 General Admission\n\nMusic by John Kander\, Lyrics by Fred Ebb\, Conceived by Susan Stroman\, David Thompson and Scott Ellis. The dynamic songwriting team of Kander and Ebb who brought us the musicals Chicago and Cabaret as well as the song "New York\, New York" are celebrated in this delightful revue. Filled with humor\, romance\, drama\, and nonstop melody\, this show is a thrilling celebration of life and the fighting spirit that keeps us all going. Directed by Brian Guidry LeTraunik\, music direction by Dr. Graham Wood\, choreography by Dr. Meredith Sims.
X-ALT-DESC;FMTTYPE=text/html:<p><strong><em>The World Goes Round</em>&nbsp\;(Musical &amp\; Theater Production) &ndash\; April 3-5\, 7:30 p.m.\, Watson Theatre\; $15 students/seniors\, $30 General Admission</strong><br />\nMusic by John Kander\, Lyrics by Fred Ebb\,&nbsp\;Conceived by Susan Stroman\, David Thompson and Scott Ellis.&nbsp\;The dynamic songwriting team of Kander and Ebb who brought us the musicals&nbsp\;<em>Chicago</em>&nbsp\;and&nbsp\;<em>Cabaret&nbsp\;</em>as well as the song &ldquo\;New York\, New York&rdquo\; are celebrated in this delightful revue. Filled with humor\, romance\, drama\, and nonstop melody\, this show is a thrilling celebration of life and the fighting spirit that keeps us all going. Directed by Brian Guidry LeTraunik\, music direction by Dr. Graham Wood\, choreography by Dr. Meredith Sims.</p>\n
LOCATION:Watson Theater
UID:e.2045.3045
SEQUENCE:3
DTSTAMP:20260424T185116Z
URL:https://www.hartsvillechamber.org/events/details/the-world-goes-round-musical-theater-production-3045
END:VEVENT

END:VCALENDAR
