BEGIN:VCALENDAR
VERSION:2.0
PRODID:-//ChamberMaster//Event Calendar 2.0//EN
METHOD:PUBLISH
X-PUBLISHED-TTL:P3D
REFRESH-INTERVAL:P3D
CALSCALE:GREGORIAN
BEGIN:VEVENT
DTSTART:20240509T220000Z
DTEND:20240510T000000Z
X-MICROSOFT-CDO-ALLDAYEVENT:FALSE
SUMMARY:THROWING WITH FRANKIE J. MIXON
DESCRIPTION:In pottery\, a potter's wheel is a machine used in the shaping (known as throwing) of clay into round ceramic ware. The wheel may also be used during the process of trimming excess clay. This 4-week series is designed for students who have never used the potters wheel and students who are developing throwing skills. Students will learn how to center the clay on the wheel and make basic forms\, such as mugs\, bowls\, and vases. The participants will learn how to finish their work with decorating and glazing techniques.\n\nDates & Times:\n\nThursdays from 6:00-8:00pm\n\n\n	\n	Session 1: May 9\, 16\, 23\, and 30\n	\n	\n	Session 2: June 6\, 13\, 20\, and 27\n	\n	\n	Session 3: July 11\, 18\, 25\, and Aug. 1\n	\n\n\n$200 (for each session) includes one 5lb bag of clay\n\nAbout the Teacher:\n\nFrankie J. Mixon is an SC Arts Commission visual arts fellow\; Artist (specializing in pottery\, clay sculptures\, and mixed media)\; Classroom art teacher with a BA in art\, two MA degrees in Elementary Education\, and Reading with an emphasis in Elementary Education. Teaching philosophy: The study of art is an excellent way to promote creativity\, self-esteem\, and self-expression. EVERY CHILD IS SPECIAL.
X-ALT-DESC;FMTTYPE=text/html:<p>In pottery\, a potter&#39\;s wheel is a machine used in the shaping (known as throwing) of clay into round ceramic ware. The wheel may also be used during the process of trimming excess clay. This 4-week series is designed for students who have never used the potters wheel and students who are developing throwing skills. Students will learn how to center the clay on the wheel and make basic forms\, such as mugs\, bowls\, and vases. The participants will learn how to finish their work with decorating and glazing techniques.</p>\n\n<p><strong>Dates &amp\; Times:</strong></p>\n\n<p>Thursdays from 6:00-8:00pm</p>\n\n<ul>\n	<li>\n	<p>Session 1: May 9\, 16\, 23\, and 30</p>\n	</li>\n	<li>\n	<p>Session 2: June 6\, 13\, 20\, and 27</p>\n	</li>\n	<li>\n	<p>Session 3: July 11\, 18\, 25\, and Aug. 1</p>\n	</li>\n</ul>\n\n<p>$200 (for each session) includes one 5lb bag of clay</p>\n\n<p><strong>About the Teacher:</strong></p>\n\n<p>Frankie J. Mixon is an SC Arts Commission visual arts fellow\; Artist (specializing in pottery\, clay sculptures\, and mixed media)\; Classroom art teacher with a BA in art\, two MA degrees in Elementary Education\, and Reading with an emphasis in Elementary Education. Teaching philosophy: The study of art is an excellent way to promote creativity\, self-esteem\, and self-expression. EVERY CHILD IS SPECIAL.</p>\n
LOCATION:Black Creek Arts
UID:e.2045.2724
SEQUENCE:3
DTSTAMP:20260425T142339Z
URL:https://www.hartsvillechamber.org/events/details/throwing-with-frankie-j-mixon-05-09-2024-2724
END:VEVENT

END:VCALENDAR
