BEGIN:VCALENDAR
VERSION:2.0
PRODID:-//ChamberMaster//Event Calendar 2.0//EN
METHOD:PUBLISH
X-PUBLISHED-TTL:P3D
REFRESH-INTERVAL:P3D
CALSCALE:GREGORIAN
BEGIN:VEVENT
DTSTART:20250628T140000Z
DTEND:20250628T170000Z
X-MICROSOFT-CDO-ALLDAYEVENT:FALSE
SUMMARY:'Tiger Cub Fun Fair'
DESCRIPTION:Butler Heritage Week 2025\n\n'TIGER CUB FUN FAIR'\n\n28 June 2025 Time: 10 A.M. - 1 P.M.\n\nAges: 3 - 12 (must be accompanied by an adult or guardian)
X-ALT-DESC;FMTTYPE=text/html:<div>Butler Heritage Week 2025</div>\n\n<div>&#39\;TIGER CUB FUN FAIR&#39\;</div>\n\n<div>28 June 2025 Time: 10 A.M. - 1 P.M.</div>\n\n<div>Ages: 3 - 12 (must be accompanied by an adult or guardian)</div>\n
LOCATION:Butler Heritage Gymnatorium 1103 South 6th Street Hartsville\, SC 29550
UID:e.2045.3374
SEQUENCE:3
DTSTAMP:20260425T013158Z
URL:https://www.hartsvillechamber.org/events/details/tiger-cub-fun-fair-3374
END:VEVENT

END:VCALENDAR
