BEGIN:VCALENDAR
VERSION:2.0
PRODID:-//ChamberMaster//Event Calendar 2.0//EN
METHOD:PUBLISH
X-PUBLISHED-TTL:P3D
REFRESH-INTERVAL:P3D
CALSCALE:GREGORIAN
BEGIN:VEVENT
DTSTART:20250403T220000Z
DTEND:20250405T000000Z
X-MICROSOFT-CDO-ALLDAYEVENT:FALSE
SUMMARY:Track Laps for Charity
DESCRIPTION:For a $25 donation\, you can drive your car around the track Too Tough To Tame for 3 laps.
X-ALT-DESC;FMTTYPE=text/html:<span style="color:rgb(0\, 0\, 0)\; font-family:figtree\; font-size:16px">For a $25 donation\, you can drive your car around the track Too Tough To Tame for 3 laps.</span>
LOCATION:Darlington Raceway 1301 Harry Byrd Hwy Darlington SC 29532
UID:e.2045.3069
SEQUENCE:3
DTSTAMP:20260424T200915Z
URL:https://www.hartsvillechamber.org/events/details/track-laps-for-charity-04-03-2025-3069
END:VEVENT

END:VCALENDAR
