BEGIN:VCALENDAR
VERSION:2.0
PRODID:-//ChamberMaster//Event Calendar 2.0//EN
METHOD:PUBLISH
X-PUBLISHED-TTL:P3D
REFRESH-INTERVAL:P3D
CALSCALE:GREGORIAN
BEGIN:VEVENT
DTSTART:20250607T140000Z
DTEND:20250607T170000Z
X-MICROSOFT-CDO-ALLDAYEVENT:FALSE
SUMMARY:Track Laps for Charity
DESCRIPTION:Join us Saturday\, June 7\, from 10 a.m. - 1 p.m. for Track Laps for Charity benefiting House of Hope of the Pee Dee and Darlington Shares. For a $30 donation\, you can drive your car around the track Too Tough To Tame for 3 laps and take a picture with the Cook Out Southern 500 trophy in Victory Lane.\n\nCASH AND CREDIT CARD PAYMENTS ARE AVAILABLE UPON ARRIVAL.
X-ALT-DESC;FMTTYPE=text/html:<p>Join us Saturday\, June 7\, from 10 a.m. - 1 p.m. for Track Laps for Charity benefiting House of Hope of the Pee Dee and Darlington Shares. For a $30 donation\, you can drive your car around the track Too Tough To Tame for 3 laps and take a picture with the Cook Out Southern 500 trophy in Victory Lane.</p>\n\n<p>CASH AND CREDIT CARD PAYMENTS ARE AVAILABLE UPON ARRIVAL.</p>\n
LOCATION:Darlington Raceway 1301 Harry Byrd Hwy Darlington SC 29532
UID:e.2045.3351
SEQUENCE:3
DTSTAMP:20260425T013435Z
URL:https://www.hartsvillechamber.org/events/details/track-laps-for-charity-06-07-2025-3351
END:VEVENT

END:VCALENDAR
