BEGIN:VCALENDAR
VERSION:2.0
PRODID:-//ChamberMaster//Event Calendar 2.0//EN
METHOD:PUBLISH
X-PUBLISHED-TTL:P3D
REFRESH-INTERVAL:P3D
CALSCALE:GREGORIAN
BEGIN:VEVENT
DTSTART:20251115T150000Z
DTEND:20251115T180000Z
X-MICROSOFT-CDO-ALLDAYEVENT:FALSE
SUMMARY:Track Laps for Charity
DESCRIPTION:YOUR CAR. OUR TRACK.\n\n\nJoin us SATURDAY\, NOVEMBER 15 from 10:00 a.m. - 1:00 p.m. for Track Laps for Charity benefiting Toys for Tots of the Pee Dee. For a $30 donation or a gift of a new\, unwrapped toy of at least $20 value\, you can drive your car around the track Too Tough To Tame for 3 laps and take a photo in Mobil 1 Victory Lane.\n\n\n\nCASH AND CREDIT CARD PAYMENTS AVAILABLE UPON ARRIVAL
X-ALT-DESC;FMTTYPE=text/html:<div>\n<h2>YOUR CAR. OUR TRACK.</h2>\n</div>\n\n<div>Join us SATURDAY\, NOVEMBER 15 from 10:00 a.m. - 1:00 p.m. for Track Laps for Charity benefiting Toys for Tots of the Pee Dee. For a $30 donation or a gift of a new\, unwrapped toy of at least $20 value\, you can drive your car around the track Too Tough To Tame for 3 laps and take a photo in Mobil 1 Victory Lane.<br />\n<br />\n<strong>CASH AND CREDIT CARD PAYMENTS AVAILABLE UPON ARRIVAL</strong></div>\n
LOCATION:Darlington Raceway 1301 Harry Byrd Hwy Darlington\, SC 29532
UID:e.2045.3413
SEQUENCE:3
DTSTAMP:20260425T105146Z
URL:https://www.hartsvillechamber.org/events/details/track-laps-for-charity-11-15-2025-3413
END:VEVENT

END:VCALENDAR
