BEGIN:VCALENDAR
VERSION:2.0
PRODID:-//ChamberMaster//Event Calendar 2.0//EN
METHOD:PUBLISH
X-PUBLISHED-TTL:P3D
REFRESH-INTERVAL:P3D
CALSCALE:GREGORIAN
BEGIN:VEVENT
DTSTART:20241116T160000Z
DTEND:20241116T190000Z
X-MICROSOFT-CDO-ALLDAYEVENT:FALSE
SUMMARY:Track Laps for Charity
DESCRIPTION:Join us Saturday\, November 16 from 11 a.m. - 2 p.m. for Track Laps for Charity benefiting Toys for Tots of Darlington.\n\n\n\nFor a $25 donation or donation of an unwrapped toy (must be at least $25 value)\, you can drive your car around the track Too Tough To Tame for 3 laps.\n\n\n\nProceeds will benefit Toys for Tots of Darlington and Darlington Shares.
X-ALT-DESC;FMTTYPE=text/html:<span style="color:rgb(0\, 0\, 0)\; font-family:figtree\; font-size:16px">Join us&nbsp\;</span><span style="color:rgb(0\, 0\, 0)\; font-family:figtree\; font-size:16px">Saturday\, November 16 from 11 a.m. - 2 p.m.</span><span style="color:rgb(0\, 0\, 0)\; font-family:figtree\; font-size:16px">&nbsp\;for Track Laps for Charity benefiting Toys for Tots of Darlington.</span><br />\n<br />\n<span style="color:rgb(0\, 0\, 0)\; font-family:figtree\; font-size:16px">For a $25 donation or donation of an unwrapped toy (must be at least $25 value)\, you can drive your car around the track Too Tough To Tame for 3 laps.</span><br />\n<br />\n<span style="color:rgb(0\, 0\, 0)\; font-family:figtree\; font-size:16px">Proceeds will benefit Toys for Tots of Darlington and Darlington Shares.</span>
LOCATION:Darlington Raceway 1301 Harry Byrd Hwy Darlington SC 29532
UID:e.2045.3068
SEQUENCE:3
DTSTAMP:20260425T030817Z
URL:https://www.hartsvillechamber.org/events/details/track-laps-for-charity-11-16-2024-3068
END:VEVENT

END:VCALENDAR
