BEGIN:VCALENDAR
VERSION:2.0
PRODID:-//ChamberMaster//Event Calendar 2.0//EN
METHOD:PUBLISH
X-PUBLISHED-TTL:P3D
REFRESH-INTERVAL:P3D
CALSCALE:GREGORIAN
BEGIN:VEVENT
DTSTART:20240302T160000Z
DTEND:20240302T190000Z
X-MICROSOFT-CDO-ALLDAYEVENT:FALSE
SUMMARY:Track Laps for Charity benefiting Child and Family Resource Foundation
DESCRIPTION:Join us Saturday\, March 2 from 11 a.m. - 2 p.m. at Darlington Raceway for Track Laps for Charity. Drive your car for 3 laps around The Lady in Black for just a $25 donation. Proceeds benefit Child and Family Resource Foundation and Darlington Shares\, a donor-advised fund of the NASCAR Foundation.
X-ALT-DESC;FMTTYPE=text/html:Join us Saturday\, March 2 from 11 a.m. - 2 p.m. at Darlington Raceway for Track Laps for Charity. Drive your car for 3 laps around The Lady in Black for just a $25 donation. Proceeds benefit Child and Family Resource Foundation and Darlington Shares\, a donor-advised fund of the NASCAR Foundation.&nbsp\;
LOCATION:Darlington Raceway 1301 Harry Byrd Hwy Darlington\, SC 29532
UID:e.2045.2488
SEQUENCE:3
DTSTAMP:20260425T173419Z
URL:https://www.hartsvillechamber.org/events/details/track-laps-for-charity-benefiting-child-and-family-resource-foundation-2488
END:VEVENT

END:VCALENDAR
