BEGIN:VCALENDAR
VERSION:2.0
PRODID:-//ChamberMaster//Event Calendar 2.0//EN
METHOD:PUBLISH
X-PUBLISHED-TTL:P3D
REFRESH-INTERVAL:P3D
CALSCALE:GREGORIAN
BEGIN:VEVENT
DTSTART:20240521T213000Z
DTEND:20240521T233000Z
X-MICROSOFT-CDO-ALLDAYEVENT:FALSE
SUMMARY:Trent Hill Center Day Services Open House
DESCRIPTION:Join us to learn more about the innovative ways Trent Hill Center is partnering with community organizations and individuals to serve youth in foster care.\n\nPlease drop in and bring a friend! Refreshments will be served.
X-ALT-DESC;FMTTYPE=text/html:<p>Join us to learn more about the innovative ways Trent Hill Center is partnering with community organizations and individuals to serve youth in foster care.</p>\n\n<p>Please drop in and bring a friend! Refreshments will be served.</p>\n
LOCATION:Lakeview Baptist Church\, 202 Lakeview Blvd.\, Hartsville\, SC 29550
UID:e.2045.2733
SEQUENCE:3
DTSTAMP:20260425T142400Z
URL:https://www.hartsvillechamber.org/events/details/trent-hill-center-day-services-open-house-2733
END:VEVENT

END:VCALENDAR
