BEGIN:VCALENDAR
VERSION:2.0
PRODID:-//ChamberMaster//Event Calendar 2.0//EN
METHOD:PUBLISH
X-PUBLISHED-TTL:P3D
REFRESH-INTERVAL:P3D
CALSCALE:GREGORIAN
BEGIN:VEVENT
DTSTART:20251220T150000Z
DTEND:20251220T170000Z
X-MICROSOFT-CDO-ALLDAYEVENT:FALSE
SUMMARY:"Walk My Way" Men's Health Brunch
DESCRIPTION:Join us for engaging conversations\, and valuable insights into men's health: The importance of mental and physical wellness. Food.
X-ALT-DESC;FMTTYPE=text/html:Join us for engaging conversations\, and valuable insights into men&#39\;s health: The importance of mental and physical wellness. Food.
LOCATION:Butler Heritage Foundation\, Inc Auditorium 1103 S. Sixth Street Hartsville\, SC 29550
UID:e.2045.3464
SEQUENCE:3
DTSTAMP:20260425T110137Z
URL:https://www.hartsvillechamber.org/events/details/walk-my-way-men-s-health-brunch-3464
END:VEVENT

END:VCALENDAR
