BEGIN:VCALENDAR
VERSION:2.0
PRODID:-//ChamberMaster//Event Calendar 2.0//EN
METHOD:PUBLISH
X-PUBLISHED-TTL:P3D
REFRESH-INTERVAL:P3D
CALSCALE:GREGORIAN
BEGIN:VEVENT
DTSTART;VALUE=DATE:20250707
DTEND;VALUE=DATE:20250726
TRANSP:TRANSPARENT
X-MICROSOFT-CDO-ALLDAYEVENT:TRUE
SUMMARY:Week in the Wild
DESCRIPTION:Kalmia Gardens' famous youth summer camp\, Week in the Wild\, returns this July and promises to be filled with fun\, friendship\, and a wildly good time! Registration is now open for all camps\, so don't delay in getting your campers signed up. Space is limited. Each camp is $125 per camper per week\, credit card fees apply. Please call (843) 383-8145 to register.\n\n\nJuly 7th   11th 9am   12pm: Rising first and second graders\n\nJuly 14th   18th 9am   12pm: Rising third and fourth graders\n\nJuly 21st   25th 9am   12pm: Rising fifth and sixth graders
X-ALT-DESC;FMTTYPE=text/html:<div>\n<p>Kalmia Gardens&rsquo\; famous youth summer camp\, Week in the Wild\, returns this July and promises to be filled with fun\, friendship\, and a wildly good time! Registration is now open for all camps\, so don&rsquo\;t delay in getting your campers signed up. Space is limited. Each camp is $125 per camper per week\, credit card fees apply. Please call (843) 383-8145 to register.</p>\n</div>\n\n<div>July 7th &ndash\; 11th 9am &ndash\; 12pm:&nbsp\;<em>Rising first and second graders</em><br />\nJuly 14th &ndash\; 18th 9am &ndash\; 12pm:&nbsp\;<em>Rising third and fourth graders</em><br />\nJuly 21st &ndash\; 25th 9am &ndash\; 12pm:&nbsp\;<em>Rising fifth and sixth graders</em></div>\n
LOCATION:Kalmia Gardens 1624 W. Carolina Ave Hartsville\, SC 29550
UID:e.2045.3338
SEQUENCE:3
DTSTAMP:20260425T032454Z
URL:https://www.hartsvillechamber.org/events/details/week-in-the-wild-3338
END:VEVENT

END:VCALENDAR
