BEGIN:VCALENDAR
VERSION:2.0
PRODID:-//ChamberMaster//Event Calendar 2.0//EN
METHOD:PUBLISH
X-PUBLISHED-TTL:P3D
REFRESH-INTERVAL:P3D
CALSCALE:GREGORIAN
BEGIN:VEVENT
DTSTART:20240330T150000Z
DTEND:20240330T163000Z
X-MICROSOFT-CDO-ALLDAYEVENT:FALSE
SUMMARY:WILD FERMENTATION: SAUERKRAUT WITH JAMIE POWELL
DESCRIPTION:Join Jamie for a demonstrate about how to ferment sauerkraut. She will teach you about the techniques of wild fermentation. Jamie will show you how to cut the cabbage and many ways to season it. Bring a pen and paper!\n\nYou will leave with firm knowledge and the confidence to make your own at home. Jamie has been a wild fermentation revivalist for over 10 years and is thrilled to teach you the benefits of fermented cabbage. Fermented food enhances the nutritional content as well as giving you probiotics. Come learn this ancient way of preserving food that enhances the gut microbiome. Jamie will have samples of fermented sauerkraut available for you to try.\n\nWHEN:\n\nSaturday\, March 30th from 11:00am-12:30pm\n\nINVESTMENT:\n\n$20\n\nABOUT THE TEACHER:\n\nJamie is a Lifestyle Medicine Advocate and has completed an online Nutritional Course with Harvard Medical School and is author of the book\, "Bringing Back Bacteria". Jamie also offers a Mediterranean diet 4 week program as well as online Wild Fermentation Consultations.\n\nShe will have some books for sale for $15. Jamie will also have some sauerkraut jars for sale and if you would like to ensure you leave that day with a jar\, feel free to place an order for a jar in advance please email her at wildandartfullyme@gmail.com for more information.
X-ALT-DESC;FMTTYPE=text/html:<p>Join Jamie for a demonstrate about how to ferment sauerkraut. She will teach you about the techniques of wild fermentation. Jamie will show you how to cut the cabbage and many ways to season it. Bring a pen and paper!</p>\n\n<p>You will leave with firm knowledge and the confidence to make your own at home. Jamie has been a wild fermentation revivalist for over 10 years and is thrilled to teach you the benefits of fermented cabbage. Fermented food enhances the nutritional content as well as giving you probiotics. Come learn this ancient way of preserving food that enhances the gut microbiome. Jamie will have samples of fermented sauerkraut available for you to try.</p>\n\n<p><strong>WHEN:</strong></p>\n\n<p>Saturday\, March 30th from 11:00am-12:30pm</p>\n\n<p><strong>INVESTMENT:</strong></p>\n\n<p>$20</p>\n\n<p><strong>ABOUT THE TEACHER:</strong></p>\n\n<p>Jamie is a Lifestyle Medicine Advocate and has completed an online Nutritional Course with Harvard Medical School and is author of the book\, &ldquo\;Bringing Back Bacteria&rdquo\;. Jamie also offers a Mediterranean diet 4 week program as well as online Wild Fermentation Consultations.</p>\n\n<p>She will have some books for sale for $15. Jamie will also have some sauerkraut jars for sale and if you would like to ensure you leave that day with a jar\, feel free to place an order for a jar in advance please email her at&nbsp\;wildandartfullyme@gmail.com&nbsp\;for more information.</p>\n
LOCATION:Black Creek Arts
UID:e.2045.2528
SEQUENCE:3
DTSTAMP:20260425T172707Z
URL:https://www.hartsvillechamber.org/events/details/wild-fermentation-sauerkraut-with-jamie-powell-2528
END:VEVENT

END:VCALENDAR
