BEGIN:VCALENDAR
VERSION:2.0
PRODID:-//ChamberMaster//Event Calendar 2.0//EN
METHOD:PUBLISH
X-PUBLISHED-TTL:P3D
REFRESH-INTERVAL:P3D
CALSCALE:GREGORIAN
BEGIN:VEVENT
DTSTART:20250214T003000Z
DTEND:20250216T020000Z
X-MICROSOFT-CDO-ALLDAYEVENT:FALSE
SUMMARY:Woza Albert!
DESCRIPTION:Woza Albert! February 13-15\, 7:30 p.m.\, Watson Theater\, $15 students/seniors\, $30 General Admission\n\nby Percy Mtwa\, Mbongeni Ngema\, and Barney Simon. This satirical play is set in the South African apartheid era. It envisions the second coming of Christ\, highlighting the struggles and injustices faced by Black folks under oppressive rule. Through a series of vignettes\, the play uses humor\, pantomime\, music and dance to critique the socio-political landscape\, emphasizing the relevance of hope\, resistance\, and the enduring human spirit even in 21st Century society.
X-ALT-DESC;FMTTYPE=text/html:<p><strong><em>Woza Albert!</em>&nbsp\;February 13-15\, 7:30 p.m.\, Watson Theater\, $15 students/seniors\, $30 General Admission</strong><br />\nby Percy Mtwa\, Mbongeni Ngema\, and Barney Simon.&nbsp\;This satirical play is set in the South African apartheid era. It envisions the second coming of Christ\, highlighting the struggles and injustices faced by Black folks under oppressive rule. Through a series of vignettes\, the play uses humor\, pantomime\, music and dance to critique the socio-political landscape\, emphasizing the relevance of hope\, resistance\, and the enduring human spirit even in 21st Century society.</p>\n
LOCATION:Watson Theater
UID:e.2045.3038
SEQUENCE:3
DTSTAMP:20260424T220751Z
URL:https://www.hartsvillechamber.org/events/details/woza-albert-3038
END:VEVENT

END:VCALENDAR
