BEGIN:VCALENDAR
VERSION:2.0
PRODID:-//ChamberMaster//Event Calendar 2.0//EN
METHOD:PUBLISH
X-PUBLISHED-TTL:P3D
REFRESH-INTERVAL:P3D
CALSCALE:GREGORIAN
BEGIN:VEVENT
DTSTART:20220505T113000Z
DTEND:20220505T133000Z
X-MICROSOFT-CDO-ALLDAYEVENT:FALSE
SUMMARY:YMCA Community Prayer Breakfast
DESCRIPTION:
X-ALT-DESC;FMTTYPE=text/html:
LOCATION:111 E Carolina Ave Hartsville\, SC 29550
UID:e.2045.1192
SEQUENCE:3
DTSTAMP:20260425T172419Z
URL:https://www.hartsvillechamber.org/events/details/ymca-community-prayer-breakfast-1192
END:VEVENT

END:VCALENDAR
