BEGIN:VCALENDAR
VERSION:2.0
PRODID:-//ChamberMaster//Event Calendar 2.0//EN
METHOD:PUBLISH
X-PUBLISHED-TTL:P3D
REFRESH-INTERVAL:P3D
CALSCALE:GREGORIAN
BEGIN:VEVENT
DTSTART:20250603T120000Z
DTEND:20250605T180000Z
X-MICROSOFT-CDO-ALLDAYEVENT:FALSE
SUMMARY:Youth Summer Camp
DESCRIPTION:Are you ready for an adventure? Sign up for the DCSO Youth Summer Camp today! This camp is targeting youth ages 6-13 years old. The camp will be held at Emmanuel Baptist Church\, 949 N Marquis Hwy\, Hartsville. The times will be from 8:00am-2:00pm\, Tuesday\, June 3rd- Thursday\, June 5th. We would love to have your child join us and experience all of the activities we have to offer! Our main goal with this camp to show kids that Law Enforcement is here to help them in any way they may need us and to bridge the gap between the community and Law Enforcement. \n \nIMPORTANT DETAILS:\n\n*Children MUST be ages 6-13 years old \n\n*Breakfast and Lunch will be provided. However\, if your child has ANY food allergies\, we kindly ask that you prepare them a lunch to bring while they are at camp. \n\n** If you are registering more than one child\, we ask that you please fill out separate forms.\n\n**Please make sure you fill out the consent question- this pertains to any photographs that will be taken of the kids while they are at the camp and participating in activities**\n\n \n\nIf you have any questions or concerns\, please contact Jordyn Jefferson at 843-861-4640 or Jennifer Hardee at 843-245-0869.\n\nSign up today using this link: https://forms.gle/GLi9soY3GzsAbets9
X-ALT-DESC;FMTTYPE=text/html:<span style="background-color:rgb(255\, 255\, 255)\; color:rgb(32\, 33\, 36)\; font-family:docs-roboto\; font-size:14.6667px">Are you ready for an adventure? Sign up for the DCSO Youth Summer Camp today! This camp is targeting youth ages 6-13 years old. The camp will be held at Emmanuel Baptist Church\, 949 N Marquis Hwy\, Hartsville. The times will be from 8:00am-2:00pm\, Tuesday\, June 3rd- Thursday\, June 5th.&nbsp\;We would love to have your child join us and experience all of the activities we have to offer! Our main goal with this camp to show kids that Law Enforcement is here to help them in any way they may need us and to bridge the gap between the community and Law Enforcement.&nbsp\;</span>\n<div>&nbsp\;\n<div><strong>IMPORTANT DETAILS:</strong></div>\n\n<div>*Children MUST be ages 6-13 years old&nbsp\;</div>\n\n<div>*Breakfast and Lunch will be provided.&nbsp\;<u><strong>However\, if your child has ANY food allergies\, we kindly ask that you prepare them a lunch to bring while they are at camp.</strong></u>&nbsp\;</div>\n\n<div>** If you are registering more than one child\, we ask that you please fill out separate forms.</div>\n\n<div>**Please make sure you fill out the consent question- this pertains to any photographs that will be taken of the kids while they are at the camp and participating in activities**</div>\n\n<div>&nbsp\;</div>\n\n<div>If you have any questions or concerns\, please contact Jordyn Jefferson at 843-861-4640 or Jennifer Hardee at 843-245-0869.<br />\nSign up today using this link: https://forms.gle/GLi9soY3GzsAbets9</div>\n</div>\n
LOCATION:Emmanuel Baptist Church\, 949 N Marquis Hwy\, Hartsville
UID:e.2045.3354
SEQUENCE:3
DTSTAMP:20260425T013239Z
URL:https://www.hartsvillechamber.org/events/details/youth-summer-camp-3354
END:VEVENT

END:VCALENDAR
